BEGIN:VCALENDAR
VERSION:2.0
PRODID:-//Dawn Donalson - ECPv6.15.20//NONSGML v1.0//EN
CALSCALE:GREGORIAN
METHOD:PUBLISH
X-ORIGINAL-URL:https://nourishingmodernfamilies.com
X-WR-CALDESC:Events for Dawn Donalson
REFRESH-INTERVAL;VALUE=DURATION:PT1H
X-Robots-Tag:noindex
X-PUBLISHED-TTL:PT1H
BEGIN:VTIMEZONE
TZID:America/Denver
BEGIN:DAYLIGHT
TZOFFSETFROM:-0700
TZOFFSETTO:-0600
TZNAME:MDT
DTSTART:20250309T090000
END:DAYLIGHT
BEGIN:STANDARD
TZOFFSETFROM:-0600
TZOFFSETTO:-0700
TZNAME:MST
DTSTART:20251102T080000
END:STANDARD
BEGIN:DAYLIGHT
TZOFFSETFROM:-0700
TZOFFSETTO:-0600
TZNAME:MDT
DTSTART:20260308T090000
END:DAYLIGHT
BEGIN:STANDARD
TZOFFSETFROM:-0600
TZOFFSETTO:-0700
TZNAME:MST
DTSTART:20261101T080000
END:STANDARD
BEGIN:DAYLIGHT
TZOFFSETFROM:-0700
TZOFFSETTO:-0600
TZNAME:MDT
DTSTART:20270314T090000
END:DAYLIGHT
BEGIN:STANDARD
TZOFFSETFROM:-0600
TZOFFSETTO:-0700
TZNAME:MST
DTSTART:20271107T080000
END:STANDARD
END:VTIMEZONE
BEGIN:VEVENT
DTSTART;TZID=America/Denver:20260711T130000
DTEND;TZID=America/Denver:20260711T150000
DTSTAMP:20260419T120405
CREATED:20260416T155041Z
LAST-MODIFIED:20260416T171836Z
UID:12097-1783774800-1783782000@nourishingmodernfamilies.com
SUMMARY:Dairy Delight
DESCRIPTION:Date: July 12Time: 1:00–3:00 PMCost: $40\n Come join us for a fun and informative one-hour workshop where you will learn how to ferment raw milk. In addition\, you will learn some simple time-saving tips that will help you prepare foods efficiently and quickly.\n\nWe’ll introduce you to the microbiome and show you ways to strengthen your immune system. At the end of class\, you’ll be able to take home a pint of yogurt!\n\n\nLet’s Get Culturing!\n  \nBe sure to read our Class Policies \n\n  \n\n\n\n\n\n$40.00
URL:https://nourishingmodernfamilies.com/event/dairy-delight-2/
LOCATION:Nourshing Modern Families\, 3145 F 3/4 Road\, Grand Junction\, CO\, 81504\, United States
CATEGORIES:classes,Cooking
ATTACH;FMTTYPE=image/jpeg:https://nourishingmodernfamilies.com/wp-content/uploads/2021/10/Dairy.jpg
ORGANIZER;CN="Nourishing Modern Families":MAILTO:dawndonalson@gmail.com
END:VEVENT
END:VCALENDAR