BEGIN:VCALENDAR
VERSION:2.0
PRODID:-//Dawn Donalson - ECPv6.15.20//NONSGML v1.0//EN
CALSCALE:GREGORIAN
METHOD:PUBLISH
X-ORIGINAL-URL:https://nourishingmodernfamilies.com
X-WR-CALDESC:Events for Dawn Donalson
REFRESH-INTERVAL;VALUE=DURATION:PT1H
X-Robots-Tag:noindex
X-PUBLISHED-TTL:PT1H
BEGIN:VTIMEZONE
TZID:America/Denver
BEGIN:DAYLIGHT
TZOFFSETFROM:-0700
TZOFFSETTO:-0600
TZNAME:MDT
DTSTART:20250309T090000
END:DAYLIGHT
BEGIN:STANDARD
TZOFFSETFROM:-0600
TZOFFSETTO:-0700
TZNAME:MST
DTSTART:20251102T080000
END:STANDARD
BEGIN:DAYLIGHT
TZOFFSETFROM:-0700
TZOFFSETTO:-0600
TZNAME:MDT
DTSTART:20260308T090000
END:DAYLIGHT
BEGIN:STANDARD
TZOFFSETFROM:-0600
TZOFFSETTO:-0700
TZNAME:MST
DTSTART:20261101T080000
END:STANDARD
BEGIN:DAYLIGHT
TZOFFSETFROM:-0700
TZOFFSETTO:-0600
TZNAME:MDT
DTSTART:20270314T090000
END:DAYLIGHT
BEGIN:STANDARD
TZOFFSETFROM:-0600
TZOFFSETTO:-0700
TZNAME:MST
DTSTART:20271107T080000
END:STANDARD
END:VTIMEZONE
BEGIN:VEVENT
DTSTART;TZID=America/Denver:20260516T130000
DTEND;TZID=America/Denver:20260516T150000
DTSTAMP:20260419T084149
CREATED:20260416T165031Z
LAST-MODIFIED:20260416T170523Z
UID:12112-1778936400-1778943600@nourishingmodernfamilies.com
SUMMARY:Soaking & Fermenting Grains for Breakfast
DESCRIPTION:  Soaking & Fermenting Grains for Breakfast\nDate: May 17Time: 1:00–3:00 PMCost: $40 \nStart your mornings with nourishing\, traditional breakfasts that support digestion and steady energy—without complicated prep. \nWhat we’ll cover:\n• Why soaking and fermenting grains matters• How this process improves digestion and nutrient absorption• Easy breakfast options for busy families• Overnight oats\, soaked pancakes\, and fermented porridges• Tips for kids and picky eaters \nHands-On Learning\nWatch simple demos\, ask questions\, and learn how to fit these methods into real family life. \nNo experience needed. Family-friendly.Part of our Nourishing Modern Families education series. \n Sign up to save your spot. \nBe sure to read our Class Policies
URL:https://nourishingmodernfamilies.com/event/soaking-fermenting-grains-for-breakfast/
LOCATION:Nourshing Modern Families\, 3145 F 3/4 Road\, Grand Junction\, CO\, 81504\, United States
CATEGORIES:classes,Cooking
ATTACH;FMTTYPE=image/jpeg:https://nourishingmodernfamilies.com/wp-content/uploads/2025/09/545598657_1361327295992943_3611900055326215783_n.jpg
END:VEVENT
END:VCALENDAR