BEGIN:VCALENDAR
VERSION:2.0
PRODID:-//Dawn Donalson - ECPv6.15.20//NONSGML v1.0//EN
CALSCALE:GREGORIAN
METHOD:PUBLISH
X-ORIGINAL-URL:https://nourishingmodernfamilies.com
X-WR-CALDESC:Events for Dawn Donalson
REFRESH-INTERVAL;VALUE=DURATION:PT1H
X-Robots-Tag:noindex
X-PUBLISHED-TTL:PT1H
BEGIN:VTIMEZONE
TZID:America/Denver
BEGIN:DAYLIGHT
TZOFFSETFROM:-0700
TZOFFSETTO:-0600
TZNAME:MDT
DTSTART:20250309T090000
END:DAYLIGHT
BEGIN:STANDARD
TZOFFSETFROM:-0600
TZOFFSETTO:-0700
TZNAME:MST
DTSTART:20251102T080000
END:STANDARD
BEGIN:DAYLIGHT
TZOFFSETFROM:-0700
TZOFFSETTO:-0600
TZNAME:MDT
DTSTART:20260308T090000
END:DAYLIGHT
BEGIN:STANDARD
TZOFFSETFROM:-0600
TZOFFSETTO:-0700
TZNAME:MST
DTSTART:20261101T080000
END:STANDARD
BEGIN:DAYLIGHT
TZOFFSETFROM:-0700
TZOFFSETTO:-0600
TZNAME:MDT
DTSTART:20270314T090000
END:DAYLIGHT
BEGIN:STANDARD
TZOFFSETFROM:-0600
TZOFFSETTO:-0700
TZNAME:MST
DTSTART:20271107T080000
END:STANDARD
END:VTIMEZONE
BEGIN:VEVENT
DTSTART;TZID=America/Denver:20261017T130000
DTEND;TZID=America/Denver:20261017T150000
DTSTAMP:20260419T221941
CREATED:20260416T185650Z
LAST-MODIFIED:20260416T185651Z
UID:12137-1792242000-1792249200@nourishingmodernfamilies.com
SUMMARY:Kombucha 101
DESCRIPTION:Fermentation Class: Dive into the Wonders of Kombucha! \n Date: Oct 17Time: 1:00–3:00 PMCost: $40 \nJoin us for an exciting and hands-on experience as we explore the art of brewing Kombucha! Whether you’re a complete beginner or looking to refine your skills\, this class is perfect for you. \nInstructor: Dawn\, our expert in fermentation\, will guide you through: \n\nThe Basics of Kombucha: Learn how to prepare your first batch\, understand the fermentation process\, and discover the health benefits of this ancient drink.\nEssential Equipment: Get familiar with the tools you’ll need to brew Kombucha at home. Dawn will walk you through each item and its purpose.\nHands-On Experience: Watch live demonstrations and ask questions as you learn the step-by-step process of making Kombucha.\n\nTake Home a Kombucha Culture! To kickstart your fermenting journey\, every participant will receive a Kombucha culture to take home—a $15 value\, absolutely FREE! \nSign Up Now! Spaces are limited\, so don’t miss out on this opportunity to learn from farm to ferment. Register today and start your journey to brewing your own Kombucha at home! \n\nBe sure to read our Class Policies \n\n\n\n\n\n\n\n$40.00
URL:https://nourishingmodernfamilies.com/event/kombucha-101/
LOCATION:CO
CATEGORIES:classes,Cooking
ATTACH;FMTTYPE=image/jpeg:https://nourishingmodernfamilies.com/wp-content/uploads/2021/10/5cfqo92t7pm.jpg
ORGANIZER;CN="Nourishing Modern Families":MAILTO:dawndonalson@gmail.com
END:VEVENT
END:VCALENDAR