BEGIN:VCALENDAR
VERSION:2.0
PRODID:-//Dawn Donalson - ECPv6.15.20//NONSGML v1.0//EN
CALSCALE:GREGORIAN
METHOD:PUBLISH
X-WR-CALNAME:Dawn Donalson
X-ORIGINAL-URL:https://nourishingmodernfamilies.com
X-WR-CALDESC:Events for Dawn Donalson
REFRESH-INTERVAL;VALUE=DURATION:PT1H
X-Robots-Tag:noindex
X-PUBLISHED-TTL:PT1H
BEGIN:VTIMEZONE
TZID:America/Denver
BEGIN:DAYLIGHT
TZOFFSETFROM:-0700
TZOFFSETTO:-0600
TZNAME:MDT
DTSTART:20250309T090000
END:DAYLIGHT
BEGIN:STANDARD
TZOFFSETFROM:-0600
TZOFFSETTO:-0700
TZNAME:MST
DTSTART:20251102T080000
END:STANDARD
BEGIN:DAYLIGHT
TZOFFSETFROM:-0700
TZOFFSETTO:-0600
TZNAME:MDT
DTSTART:20260308T090000
END:DAYLIGHT
BEGIN:STANDARD
TZOFFSETFROM:-0600
TZOFFSETTO:-0700
TZNAME:MST
DTSTART:20261101T080000
END:STANDARD
BEGIN:DAYLIGHT
TZOFFSETFROM:-0700
TZOFFSETTO:-0600
TZNAME:MDT
DTSTART:20270314T090000
END:DAYLIGHT
BEGIN:STANDARD
TZOFFSETFROM:-0600
TZOFFSETTO:-0700
TZNAME:MST
DTSTART:20271107T080000
END:STANDARD
END:VTIMEZONE
BEGIN:VEVENT
DTSTART;TZID=America/Denver:20260815T130000
DTEND;TZID=America/Denver:20260815T150000
DTSTAMP:20260419T185255
CREATED:20260416T183833Z
LAST-MODIFIED:20260416T184627Z
UID:12129-1786798800-1786806000@nourishingmodernfamilies.com
SUMMARY:Farm to Ferment Probiotic!
DESCRIPTION:Date: Aug 15Time: 1:00–3:00 PMCost: $40 \nYou’ve heard the saying\, “You are what you eat.” But what exactly ARE you eating? And more importantly\, what are you feeding your gut bacteria? \nJoin us for a one-hour group class where Dawn\, our expert in fermentation\, will shed light on the incredible benefits of adding fermented and cultured foods to your family’s diet. Learn how to transform your pantry with easy-to-make\, nutrient-rich recipes that support gut health and overall well-being. \nWhat You’ll Learn: \n\nFermentation Fundamentals: Discover the basic principles of the fermentation process and how live cultures positively impact your body.\nHands-On Techniques: Gain practical skills for preparation\, canning\, and fermenting your favorite foods.\nIncorporating Fermented Foods: Learn creative ways to integrate fermented foods into your meals and snacks.\nMaster the Brine: Walk away with the knowledge to use a basic brine recipe to ferment just about anything\, turning everyday foods into healthy\, traditional meals your family will love.\n\nTake Home a Free Ferment Starter!\nTo help you kickstart your fermenting journey\, each participant will receive a FREE ferment starter—a $20 value! \nSign Up Now!\nDon’t miss this chance to start your journey from farm to ferment. Secure your spot today and take the first step toward nourishing your family with delicious\, probiotic-rich foods. \n\nBe sure to read our Class Policies \n\n\n\n\n\n$40.00
URL:https://nourishingmodernfamilies.com/event/farm-to-ferment-probiotic/
LOCATION:Nourshing Modern Families\, 3145 F 3/4 Road\, Grand Junction\, CO\, 81504\, United States
CATEGORIES:classes,Cooking
ATTACH;FMTTYPE=image/jpeg:https://nourishingmodernfamilies.com/wp-content/uploads/2022/12/Krout-shots.jpg
ORGANIZER;CN="Nourishing Modern Families":MAILTO:dawndonalson@gmail.com
END:VEVENT
END:VCALENDAR